Package: MSstatsShiny Version: 1.13.0 Command: /home/biocbuild/bbs-3.23-bioc/R/bin/R CMD INSTALL MSstatsShiny StartedAt: 2025-11-05 16:05:15 -0500 (Wed, 05 Nov 2025) EndedAt: 2025-11-05 16:05:46 -0500 (Wed, 05 Nov 2025) EllapsedTime: 30.7 seconds RetCode: 0 Status: OK