Package: MSstatsShiny Version: 1.13.0 Command: /home/biocbuild/bbs-3.23-bioc/R/bin/R CMD build --keep-empty-dirs --no-resave-data MSstatsShiny StartedAt: 2025-11-04 18:49:31 -0500 (Tue, 04 Nov 2025) EndedAt: 2025-11-04 18:50:16 -0500 (Tue, 04 Nov 2025) EllapsedTime: 45.1 seconds RetCode: 0 Status: OK PackageFile: MSstatsShiny_1.13.0.tar.gz PackageFileSize: 3.523 MiB