Package: MSstatsShiny Version: 1.11.5 Command: /Library/Frameworks/R.framework/Resources/bin/R CMD build --keep-empty-dirs --no-resave-data MSstatsShiny StartedAt: 2025-10-01 18:00:53 -0400 (Wed, 01 Oct 2025) EndedAt: 2025-10-01 18:02:06 -0400 (Wed, 01 Oct 2025) EllapsedTime: 73.3 seconds RetCode: 0 Status: OK PackageFile: MSstatsShiny_1.11.5.tar.gz PackageFileSize: 3.524 MiB