Package: MSstatsShiny Version: 1.11.5 Command: rm -rf MSstatsShiny.buildbin-libdir && mkdir MSstatsShiny.buildbin-libdir && /Users/biocbuild/BBS/utils/build-universal.sh MSstatsShiny_1.11.5.tar.gz /Library/Frameworks/R.framework/Resources/bin/R MSstatsShiny.buildbin-libdir StartedAt: 2025-10-02 02:02:42 -0400 (Thu, 02 Oct 2025) EndedAt: 2025-10-02 02:03:26 -0400 (Thu, 02 Oct 2025) EllapsedTime: 43.8 seconds RetCode: 0 Status: OK PackageFile: MSstatsShiny_1.11.5.tgz PackageFileSize: 3.684 MiB