Package: MSstatsShiny Version: 1.11.5 Maintainer: Anthony Wu MaintainerEmail: wu.anthon at northeastern.edu git_url: https://git.bioconductor.org/packages/MSstatsShiny git_branch: devel git_last_commit: bfd992c git_last_commit_date: 2025-09-05 16:52:55 -0400 (Fri, 05 Sep 2025)