Package: MSstatsResponse Version: 1.1.0 Command: /home/biocbuild/bbs-3.23-bioc/R/bin/R CMD build --keep-empty-dirs --no-resave-data MSstatsResponse StartedAt: 2025-10-31 19:03:22 -0400 (Fri, 31 Oct 2025) EndedAt: 2025-10-31 19:04:26 -0400 (Fri, 31 Oct 2025) EllapsedTime: 64.1 seconds RetCode: 0 Status: OK PackageFile: MSstatsResponse_1.1.0.tar.gz PackageFileSize: 8.15 MiB