Package: MSstatsResponse Version: 1.1.0 Command: /Library/Frameworks/R.framework/Resources/bin/R CMD INSTALL MSstatsResponse StartedAt: 2025-11-20 15:15:51 -0500 (Thu, 20 Nov 2025) EndedAt: 2025-11-20 15:16:17 -0500 (Thu, 20 Nov 2025) EllapsedTime: 25.9 seconds RetCode: 0 Status: OK