Package: MSstatsResponse Version: 1.1.0 Command: /Library/Frameworks/R.framework/Resources/bin/R CMD build --keep-empty-dirs --no-resave-data MSstatsResponse StartedAt: 2025-11-20 17:55:28 -0500 (Thu, 20 Nov 2025) EndedAt: 2025-11-20 17:57:03 -0500 (Thu, 20 Nov 2025) EllapsedTime: 94.8 seconds RetCode: 0 Status: OK PackageFile: MSstatsResponse_1.1.0.tar.gz PackageFileSize: 8.146 MiB