Package: MSstatsResponse Version: 1.1.0 Command: rm -rf MSstatsResponse.buildbin-libdir && mkdir MSstatsResponse.buildbin-libdir && /Users/biocbuild/BBS/utils/build-universal.sh MSstatsResponse_1.1.0.tar.gz /Library/Frameworks/R.framework/Resources/bin/R MSstatsResponse.buildbin-libdir StartedAt: 2025-11-21 01:45:30 -0500 (Fri, 21 Nov 2025) EndedAt: 2025-11-21 01:45:44 -0500 (Fri, 21 Nov 2025) EllapsedTime: 13.9 seconds RetCode: 0 Status: OK PackageFile: MSstatsResponse_1.1.0.tgz PackageFileSize: 8.205 MiB