Package: MSstatsResponse Version: 1.1.0 Command: rm -rf MSstatsResponse.buildbin-libdir && mkdir MSstatsResponse.buildbin-libdir && /Users/biocbuild/BBS/utils/build-universal.sh MSstatsResponse_1.1.0.tar.gz /Library/Frameworks/R.framework/Resources/bin/R MSstatsResponse.buildbin-libdir StartedAt: 2025-11-20 23:43:05 -0500 (Thu, 20 Nov 2025) EndedAt: 2025-11-20 23:43:09 -0500 (Thu, 20 Nov 2025) EllapsedTime: 4.1 seconds RetCode: 0 Status: OK PackageFile: MSstatsResponse_1.1.0.tgz PackageFileSize: 8.207 MiB