Package: MSstatsResponse Version: 1.1.0 Maintainer: Sarah Szvetecz MaintainerEmail: szvetecz.s at northeastern.edu git_url: https://git.bioconductor.org/packages/MSstatsResponse git_branch: devel git_last_commit: 048d39d git_last_commit_date: 2025-10-29 11:39:03 -0400 (Wed, 29 Oct 2025)