Package: MSstatsQCgui Version: 1.31.0 Command: /home/biocbuild/bbs-3.23-bioc/R/bin/R CMD check --install=check:MSstatsQCgui.install-out.txt --library=/home/biocbuild/bbs-3.23-bioc/R/site-library --timings MSstatsQCgui_1.31.0.tar.gz StartedAt: 2025-11-27 01:51:17 -0500 (Thu, 27 Nov 2025) EndedAt: 2025-11-27 01:55:47 -0500 (Thu, 27 Nov 2025) EllapsedTime: 270.3 seconds RetCode: 0 Status: OK CheckDir: MSstatsQCgui.Rcheck Warnings: 0