Package: MSstatsQCgui Version: 1.31.0 Command: /home/biocbuild/bbs-3.23-bioc/R/bin/R CMD build --keep-empty-dirs --no-resave-data MSstatsQCgui StartedAt: 2025-11-05 18:56:40 -0500 (Wed, 05 Nov 2025) EndedAt: 2025-11-05 18:57:22 -0500 (Wed, 05 Nov 2025) EllapsedTime: 42.1 seconds RetCode: 0 Status: OK PackageFile: MSstatsQCgui_1.31.0.tar.gz PackageFileSize: 75.48 KiB