Package: MSstatsQCgui Version: 1.29.0 Command: /Library/Frameworks/R.framework/Resources/bin/R CMD INSTALL MSstatsQCgui StartedAt: 2025-09-30 15:36:42 -0400 (Tue, 30 Sep 2025) EndedAt: 2025-09-30 15:37:38 -0400 (Tue, 30 Sep 2025) EllapsedTime: 55.6 seconds RetCode: 0 Status: OK