Package: MSstatsQCgui Version: 1.29.0 Command: /Library/Frameworks/R.framework/Resources/bin/R CMD build --keep-empty-dirs --no-resave-data MSstatsQCgui StartedAt: 2025-10-01 18:00:42 -0400 (Wed, 01 Oct 2025) EndedAt: 2025-10-01 18:01:40 -0400 (Wed, 01 Oct 2025) EllapsedTime: 58.5 seconds RetCode: 0 Status: OK PackageFile: MSstatsQCgui_1.29.0.tar.gz PackageFileSize: 75.36 KiB