Package: MSstatsQCgui Version: 1.29.0 Command: rm -rf MSstatsQCgui.buildbin-libdir && mkdir MSstatsQCgui.buildbin-libdir && /Users/biocbuild/BBS/utils/build-universal.sh MSstatsQCgui_1.29.0.tar.gz /Library/Frameworks/R.framework/Resources/bin/R MSstatsQCgui.buildbin-libdir StartedAt: 2025-10-01 01:54:36 -0400 (Wed, 01 Oct 2025) EndedAt: 2025-10-01 01:55:33 -0400 (Wed, 01 Oct 2025) EllapsedTime: 57.8 seconds RetCode: 0 Status: OK PackageFile: MSstatsQCgui_1.29.0.tgz PackageFileSize: 85.42 KiB