Package: MSstatsQC Version: 2.29.0 Command: /home/biocbuild/bbs-3.23-bioc/R/bin/R CMD INSTALL MSstatsQC StartedAt: 2025-11-05 15:43:52 -0500 (Wed, 05 Nov 2025) EndedAt: 2025-11-05 15:44:32 -0500 (Wed, 05 Nov 2025) EllapsedTime: 39.8 seconds RetCode: 0 Status: OK