Package: MSstatsQC Version: 2.29.0 Command: /home/biocbuild/bbs-3.23-bioc/R/bin/R CMD build --keep-empty-dirs --no-resave-data MSstatsQC StartedAt: 2025-11-05 18:56:37 -0500 (Wed, 05 Nov 2025) EndedAt: 2025-11-05 18:57:50 -0500 (Wed, 05 Nov 2025) EllapsedTime: 73.1 seconds RetCode: 0 Status: OK PackageFile: MSstatsQC_2.29.0.tar.gz PackageFileSize: 2.209 MiB