Package: MSstatsQC Version: 2.27.0 Command: /Library/Frameworks/R.framework/Resources/bin/R CMD INSTALL MSstatsQC StartedAt: 2025-10-05 15:36:22 -0400 (Sun, 05 Oct 2025) EndedAt: 2025-10-05 15:37:18 -0400 (Sun, 05 Oct 2025) EllapsedTime: 55.1 seconds RetCode: 0 Status: OK