Package: MSstatsQC Version: 2.27.0 Command: /Library/Frameworks/R.framework/Resources/bin/R CMD build --keep-empty-dirs --no-resave-data MSstatsQC StartedAt: 2025-10-06 18:07:41 -0400 (Mon, 06 Oct 2025) EndedAt: 2025-10-06 18:09:45 -0400 (Mon, 06 Oct 2025) EllapsedTime: 124.0 seconds RetCode: 0 Status: OK PackageFile: MSstatsQC_2.27.0.tar.gz PackageFileSize: 2.309 MiB