Package: MSstatsPTM Version: 2.13.0 Command: /home/biocbuild/bbs-3.23-bioc/R/bin/R CMD INSTALL MSstatsPTM StartedAt: 2025-11-05 15:32:04 -0500 (Wed, 05 Nov 2025) EndedAt: 2025-11-05 15:32:30 -0500 (Wed, 05 Nov 2025) EllapsedTime: 26.6 seconds RetCode: 0 Status: OK