Package: MSstatsPTM Version: 2.13.0 Command: /home/biocbuild/bbs-3.23-bioc/R/bin/R CMD build --keep-empty-dirs --no-resave-data MSstatsPTM StartedAt: 2025-11-05 18:56:29 -0500 (Wed, 05 Nov 2025) EndedAt: 2025-11-05 18:57:42 -0500 (Wed, 05 Nov 2025) EllapsedTime: 73.1 seconds RetCode: 0 Status: OK PackageFile: MSstatsPTM_2.13.0.tar.gz PackageFileSize: 2.862 MiB