Package: MSstatsPTM Version: 2.11.5 Command: /Library/Frameworks/R.framework/Resources/bin/R CMD build --keep-empty-dirs --no-resave-data MSstatsPTM StartedAt: 2025-10-12 18:13:46 -0400 (Sun, 12 Oct 2025) EndedAt: 2025-10-12 18:15:45 -0400 (Sun, 12 Oct 2025) EllapsedTime: 118.7 seconds RetCode: 0 Status: OK PackageFile: MSstatsPTM_2.11.5.tar.gz PackageFileSize: 2.879 MiB