Package: MSstatsPTM Version: 2.11.5 Command: rm -rf MSstatsPTM.buildbin-libdir && mkdir MSstatsPTM.buildbin-libdir && /Users/biocbuild/BBS/utils/build-universal.sh MSstatsPTM_2.11.5.tar.gz /Library/Frameworks/R.framework/Resources/bin/R MSstatsPTM.buildbin-libdir StartedAt: 2025-10-11 02:41:37 -0400 (Sat, 11 Oct 2025) EndedAt: 2025-10-11 02:42:21 -0400 (Sat, 11 Oct 2025) EllapsedTime: 43.8 seconds RetCode: 0 Status: OK PackageFile: MSstatsPTM_2.11.5.tgz PackageFileSize: 3.314 MiB