Package: MSstatsPTM Version: 2.11.5 Maintainer: Anthony Wu MaintainerEmail: wu.anthon at northeastern.edu git_url: https://git.bioconductor.org/packages/MSstatsPTM git_branch: devel git_last_commit: d2558b7 git_last_commit_date: 2025-09-19 17:11:16 -0400 (Fri, 19 Sep 2025)