Package: MSstatsLiP Version: 1.17.0 Command: /home/biocbuild/bbs-3.23-bioc/R/bin/R CMD INSTALL MSstatsLiP StartedAt: 2025-11-20 15:25:36 -0500 (Thu, 20 Nov 2025) EndedAt: 2025-11-20 15:26:02 -0500 (Thu, 20 Nov 2025) EllapsedTime: 26.0 seconds RetCode: 0 Status: OK