Package: MSstatsLiP Version: 1.17.0 Command: /home/biocbuild/bbs-3.23-bioc/R/bin/R CMD build --keep-empty-dirs --no-resave-data MSstatsLiP StartedAt: 2025-11-20 18:54:34 -0500 (Thu, 20 Nov 2025) EndedAt: 2025-11-20 18:55:27 -0500 (Thu, 20 Nov 2025) EllapsedTime: 53.1 seconds RetCode: 0 Status: OK PackageFile: MSstatsLiP_1.17.0.tar.gz PackageFileSize: 1.818 MiB