Package: MSstatsLiP Version: 1.15.3 Command: /Library/Frameworks/R.framework/Resources/bin/R CMD INSTALL MSstatsLiP StartedAt: 2025-10-16 15:51:04 -0400 (Thu, 16 Oct 2025) EndedAt: 2025-10-16 15:51:38 -0400 (Thu, 16 Oct 2025) EllapsedTime: 34.6 seconds RetCode: 0 Status: OK