Package: MSstatsLiP Version: 1.15.3 Command: /Library/Frameworks/R.framework/Resources/bin/R CMD build --keep-empty-dirs --no-resave-data MSstatsLiP StartedAt: 2025-10-17 18:21:34 -0400 (Fri, 17 Oct 2025) EndedAt: 2025-10-17 18:23:33 -0400 (Fri, 17 Oct 2025) EllapsedTime: 118.7 seconds RetCode: 0 Status: OK PackageFile: MSstatsLiP_1.15.3.tar.gz PackageFileSize: 1.935 MiB