Package: MSstatsLiP Version: 1.15.3 Command: rm -rf MSstatsLiP.buildbin-libdir && mkdir MSstatsLiP.buildbin-libdir && /Users/biocbuild/BBS/utils/build-universal.sh MSstatsLiP_1.15.3.tar.gz /Library/Frameworks/R.framework/Resources/bin/R MSstatsLiP.buildbin-libdir StartedAt: 2025-10-18 03:09:56 -0400 (Sat, 18 Oct 2025) EndedAt: 2025-10-18 03:10:35 -0400 (Sat, 18 Oct 2025) EllapsedTime: 39.4 seconds RetCode: 0 Status: OK PackageFile: MSstatsLiP_1.15.3.tgz PackageFileSize: 1.877 MiB