Package: MSstatsLiP Version: 1.15.3 Command: /Library/Frameworks/R.framework/Resources/bin/R CMD INSTALL MSstatsLiP StartedAt: 2025-09-30 15:09:52 -0400 (Tue, 30 Sep 2025) EndedAt: 2025-09-30 15:10:01 -0400 (Tue, 30 Sep 2025) EllapsedTime: 9.4 seconds RetCode: 0 Status: OK