Package: MSstatsLiP Version: 1.15.3 Command: /Library/Frameworks/R.framework/Resources/bin/R CMD build --keep-empty-dirs --no-resave-data MSstatsLiP StartedAt: 2025-09-30 17:09:19 -0400 (Tue, 30 Sep 2025) EndedAt: 2025-09-30 17:09:41 -0400 (Tue, 30 Sep 2025) EllapsedTime: 21.2 seconds RetCode: 0 Status: OK PackageFile: MSstatsLiP_1.15.3.tar.gz PackageFileSize: 1.939 MiB