Package: MSstatsLiP Version: 1.15.3 Command: rm -rf MSstatsLiP.buildbin-libdir && mkdir MSstatsLiP.buildbin-libdir && /Users/biocbuild/BBS/utils/build-universal.sh MSstatsLiP_1.15.3.tar.gz /Library/Frameworks/R.framework/Resources/bin/R MSstatsLiP.buildbin-libdir StartedAt: 2025-09-30 22:48:14 -0400 (Tue, 30 Sep 2025) EndedAt: 2025-09-30 22:48:25 -0400 (Tue, 30 Sep 2025) EllapsedTime: 11.2 seconds RetCode: 0 Status: OK PackageFile: MSstatsLiP_1.15.3.tgz PackageFileSize: 1.881 MiB