Package: MSstatsLOBD Version: 1.18.0 Command: /home/biocbuild/bbs-3.22-bioc/R/bin/R CMD check --install=check:MSstatsLOBD.install-out.txt --library=/home/biocbuild/bbs-3.22-bioc/R/site-library --timings MSstatsLOBD_1.18.0.tar.gz StartedAt: 2025-10-30 08:14:27 -0400 (Thu, 30 Oct 2025) EndedAt: 2025-10-30 08:15:28 -0400 (Thu, 30 Oct 2025) EllapsedTime: 61.1 seconds RetCode: 0 Status: OK CheckDir: MSstatsLOBD.Rcheck Warnings: 0