Package: MSstatsLOBD Version: 1.19.0 Command: /home/biocbuild/bbs-3.23-bioc/R/bin/R CMD INSTALL MSstatsLOBD StartedAt: 2025-11-02 15:14:51 -0500 (Sun, 02 Nov 2025) EndedAt: 2025-11-02 15:15:04 -0500 (Sun, 02 Nov 2025) EllapsedTime: 12.3 seconds RetCode: 0 Status: OK