Package: MSstatsLOBD Version: 1.19.0 Command: /home/biocbuild/bbs-3.23-bioc/R/bin/R CMD build --keep-empty-dirs --no-resave-data MSstatsLOBD StartedAt: 2025-11-02 18:50:10 -0500 (Sun, 02 Nov 2025) EndedAt: 2025-11-02 18:50:32 -0500 (Sun, 02 Nov 2025) EllapsedTime: 22.0 seconds RetCode: 0 Status: OK PackageFile: MSstatsLOBD_1.19.0.tar.gz PackageFileSize: 373.4 KiB