Package: MSstatsLOBD Version: 1.17.0 Command: /Library/Frameworks/R.framework/Resources/bin/R CMD build --keep-empty-dirs --no-resave-data MSstatsLOBD StartedAt: 2025-10-12 18:13:41 -0400 (Sun, 12 Oct 2025) EndedAt: 2025-10-12 18:14:33 -0400 (Sun, 12 Oct 2025) EllapsedTime: 52.7 seconds RetCode: 0 Status: OK PackageFile: MSstatsLOBD_1.17.0.tar.gz PackageFileSize: 341.7 KiB