Package: MSstatsLOBD Version: 1.17.0 Command: rm -rf MSstatsLOBD.buildbin-libdir && mkdir MSstatsLOBD.buildbin-libdir && /Users/biocbuild/BBS/utils/build-universal.sh MSstatsLOBD_1.17.0.tar.gz /Library/Frameworks/R.framework/Resources/bin/R MSstatsLOBD.buildbin-libdir StartedAt: 2025-10-13 02:44:49 -0400 (Mon, 13 Oct 2025) EndedAt: 2025-10-13 02:44:59 -0400 (Mon, 13 Oct 2025) EllapsedTime: 10.4 seconds RetCode: 0 Status: OK PackageFile: MSstatsLOBD_1.17.0.tgz PackageFileSize: 385.8 KiB