Package: MSstatsConvert Version: 1.21.0 Command: /home/biocbuild/bbs-3.23-bioc/R/bin/R CMD INSTALL MSstatsConvert StartedAt: 2025-11-20 15:02:02 -0500 (Thu, 20 Nov 2025) EndedAt: 2025-11-20 15:02:24 -0500 (Thu, 20 Nov 2025) EllapsedTime: 21.3 seconds RetCode: 0 Status: OK