Package: MSstatsConvert Version: 1.19.3 Command: /Library/Frameworks/R.framework/Resources/bin/R CMD INSTALL MSstatsConvert StartedAt: 2025-10-14 15:05:26 -0400 (Tue, 14 Oct 2025) EndedAt: 2025-10-14 15:06:02 -0400 (Tue, 14 Oct 2025) EllapsedTime: 35.9 seconds RetCode: 0 Status: OK