Package: MSstatsConvert Version: 1.19.3 Command: rm -rf MSstatsConvert.buildbin-libdir && mkdir MSstatsConvert.buildbin-libdir && /Users/biocbuild/BBS/utils/build-universal.sh MSstatsConvert_1.19.3.tar.gz /Library/Frameworks/R.framework/Resources/bin/R MSstatsConvert.buildbin-libdir StartedAt: 2025-10-15 02:56:19 -0400 (Wed, 15 Oct 2025) EndedAt: 2025-10-15 02:56:40 -0400 (Wed, 15 Oct 2025) EllapsedTime: 20.8 seconds RetCode: 0 Status: OK PackageFile: MSstatsConvert_1.19.3.tgz PackageFileSize: 2.486 MiB