Package: MSstatsConvert Version: 1.21.0 Maintainer: Mateusz Staniak MaintainerEmail: mtst at mstaniak.pl git_url: https://git.bioconductor.org/packages/MSstatsConvert git_branch: devel git_last_commit: c3ae371 git_last_commit_date: 2025-10-29 11:04:31 -0400 (Wed, 29 Oct 2025)