Package: MSstatsBioNet Version: 1.3.1 Command: /home/biocbuild/bbs-3.23-bioc/R/bin/R CMD check --install=check:MSstatsBioNet.install-out.txt --library=/home/biocbuild/bbs-3.23-bioc/R/site-library --timings MSstatsBioNet_1.3.1.tar.gz StartedAt: 2025-11-08 01:48:23 -0500 (Sat, 08 Nov 2025) EndedAt: 2025-11-08 01:49:46 -0500 (Sat, 08 Nov 2025) EllapsedTime: 83.1 seconds RetCode: 0 Status: WARNINGS CheckDir: MSstatsBioNet.Rcheck Warnings: 1