Package: MSstatsBioNet Version: 1.3.1 Command: /home/biocbuild/bbs-3.23-bioc/R/bin/R CMD build --keep-empty-dirs --no-resave-data MSstatsBioNet StartedAt: 2025-11-07 18:50:07 -0500 (Fri, 07 Nov 2025) EndedAt: 2025-11-07 18:50:31 -0500 (Fri, 07 Nov 2025) EllapsedTime: 24.0 seconds RetCode: 0 Status: OK PackageFile: MSstatsBioNet_1.3.1.tar.gz PackageFileSize: 510.6 KiB