Package: MSstatsBig Version: 1.7.0 Command: /home/biocbuild/R/R/bin/R CMD INSTALL MSstatsBig StartedAt: 2025-10-16 21:23:49 -0000 (Thu, 16 Oct 2025) EndedAt: 2025-10-16 21:24:04 -0000 (Thu, 16 Oct 2025) EllapsedTime: 15.7 seconds RetCode: 0 Status: OK