Package: MSstatsBig Version: 1.7.0 Command: /home/biocbuild/R/R/bin/R CMD build --keep-empty-dirs --no-resave-data MSstatsBig StartedAt: 2025-10-17 03:01:49 -0000 (Fri, 17 Oct 2025) EndedAt: 2025-10-17 03:02:12 -0000 (Fri, 17 Oct 2025) EllapsedTime: 23.0 seconds RetCode: 0 Status: OK PackageFile: MSstatsBig_1.7.0.tar.gz PackageFileSize: 70.98 KiB