Package: MSstatsBig Version: 1.9.0 Command: /home/biocbuild/bbs-3.23-bioc/R/bin/R CMD check --install=check:MSstatsBig.install-out.txt --library=/home/biocbuild/bbs-3.23-bioc/R/site-library --timings MSstatsBig_1.9.0.tar.gz StartedAt: 2025-11-22 01:48:50 -0500 (Sat, 22 Nov 2025) EndedAt: 2025-11-22 01:50:12 -0500 (Sat, 22 Nov 2025) EllapsedTime: 82.1 seconds RetCode: 0 Status: OK CheckDir: MSstatsBig.Rcheck Warnings: 0