Package: MSstats Version: 4.19.0 Command: /home/biocbuild/bbs-3.23-bioc/R/bin/R CMD INSTALL MSstats StartedAt: 2025-11-20 15:11:11 -0500 (Thu, 20 Nov 2025) EndedAt: 2025-11-20 15:11:55 -0500 (Thu, 20 Nov 2025) EllapsedTime: 44.0 seconds RetCode: 0 Status: OK