Package: MSstats Version: 4.17.2 Command: /Library/Frameworks/R.framework/Resources/bin/R CMD INSTALL MSstats StartedAt: 2025-10-16 15:40:43 -0400 (Thu, 16 Oct 2025) EndedAt: 2025-10-16 15:41:25 -0400 (Thu, 16 Oct 2025) EllapsedTime: 42.2 seconds RetCode: 0 Status: OK