Package: MSstats Version: 4.17.1 Command: /Library/Frameworks/R.framework/Resources/bin/R CMD build --keep-empty-dirs --no-resave-data MSstats StartedAt: 2025-09-29 17:07:25 -0400 (Mon, 29 Sep 2025) EndedAt: 2025-09-29 17:07:52 -0400 (Mon, 29 Sep 2025) EllapsedTime: 27.3 seconds RetCode: 0 Status: OK PackageFile: MSstats_4.17.1.tar.gz PackageFileSize: 473.7 KiB